BEGIN:VCALENDAR
VERSION:2.0
PRODID:SchoolNow
CALSCALE:GREGORIAN
BEGIN:VEVENT
UID:2f0e5e70-73d9-11f0-863d-0affd0ce0cf9
DTSTAMP:20251216T154650Z
SUMMARY:Faculty/Staff Appreciation Week
URL;VALUE=URI:https://www.adirondackcsd.org/calendar/8480575/faculty-staff-
 appreciation-week
DTSTART;VALUE=DATE:20260504
DTEND;VALUE=DATE:20260509
END:VEVENT
END:VCALENDAR
