BEGIN:VCALENDAR
VERSION:2.0
PRODID:SchoolNow
CALSCALE:GREGORIAN
BEGIN:VEVENT
UID:a7d0ade0-a2eb-11f0-925b-0a58a9feac02
DTSTAMP:20251216T154650Z
SUMMARY:Supt. Conference Day - No students
URL;VALUE=URI:https://www.adirondackcsd.org/calendar/8700540/supt-conferenc
 e-day-no-students
DTSTART;VALUE=DATE:20251010
DTEND;VALUE=DATE:20251011
END:VEVENT
END:VCALENDAR
